BEGIN:VCALENDAR
VERSION:2.0
METHOD:PUBLISH
PRODID:-//Event-List//NONSGML Event-List 5.4.2//DE
X-WR-TIMEZONE:Europe/Berlin
CALSCALE:GREGORIAN
BEGIN:VTIMEZONE
TZID:Europe/Berlin
BEGIN:DAYLIGHT
TZOFFSETFROM:+0100
TZOFFSETTO:+0200
DTSTART:19810329T020000
RRULE:FREQ=YEARLY;BYMONTH=3;BYDAY=-1SU
TZNAME:CEST
END:DAYLIGHT
BEGIN:STANDARD
TZOFFSETFROM:+0200
TZOFFSETTO:+0100
DTSTART:19961027T030000
RRULE:FREQ=YEARLY;BYMONTH=10;BYDAY=-1SU
TZNAME:CET
END:STANDARD
END:VTIMEZONE
BEGIN:VEVENT
DTSTAMP:20260420T054247
DTSTART:20220122T120000
DTEND;VALUE=DATE:20220124
UID:40@www.schuetzenverein-essendorf.de/cal
CLASS:PUBLIC
SUMMARY:17. Schrobenhausener Spargellandturnier WA-Halle
DESCRIPTION:Liebe Bogenschützinnen und Bogenschützen,\nder BSC Schrobenhausen e.V.
  veranstaltet am 22./23. Januar 2022 das\n17. Schrobenhausener
  Spargelladturnier WA-Halle\nEin Turnier nach der Sportordnung des DSB und
  nach den Regeln der WA.\n
CONTACT:BSC Schrobenhausen e. V.\, Phillip Seelig\, Förster-Kramer-Str. 6\, 86529 Schrobenhausen-Edelshausen
LOCATION:HALLE\, Georg-Leinfelder-Str. 21\, 86529 Schrobenhausen
CATEGORIES:Nachbarvereine,Bogenschützen
END:VEVENT
END:VCALENDAR